BEGIN:VCALENDAR
VERSION:2.0
PRODID:-//Portal ZespolyLudowe.pl - ECPv6.15.20//NONSGML v1.0//EN
CALSCALE:GREGORIAN
METHOD:PUBLISH
X-ORIGINAL-URL:https://zespolyludowe.pl
X-WR-CALDESC:Wydarzenia dla Portal ZespolyLudowe.pl
REFRESH-INTERVAL;VALUE=DURATION:PT1H
X-Robots-Tag:noindex
X-PUBLISHED-TTL:PT1H
BEGIN:VTIMEZONE
TZID:Europe/Warsaw
BEGIN:DAYLIGHT
TZOFFSETFROM:+0100
TZOFFSETTO:+0200
TZNAME:CEST
DTSTART:20240331T010000
END:DAYLIGHT
BEGIN:STANDARD
TZOFFSETFROM:+0200
TZOFFSETTO:+0100
TZNAME:CET
DTSTART:20241027T010000
END:STANDARD
BEGIN:DAYLIGHT
TZOFFSETFROM:+0100
TZOFFSETTO:+0200
TZNAME:CEST
DTSTART:20250330T010000
END:DAYLIGHT
BEGIN:STANDARD
TZOFFSETFROM:+0200
TZOFFSETTO:+0100
TZNAME:CET
DTSTART:20251026T010000
END:STANDARD
BEGIN:DAYLIGHT
TZOFFSETFROM:+0100
TZOFFSETTO:+0200
TZNAME:CEST
DTSTART:20260329T010000
END:DAYLIGHT
BEGIN:STANDARD
TZOFFSETFROM:+0200
TZOFFSETTO:+0100
TZNAME:CET
DTSTART:20261025T010000
END:STANDARD
END:VTIMEZONE
BEGIN:VEVENT
DTSTART;VALUE=DATE:20250524
DTEND;VALUE=DATE:20250526
DTSTAMP:20260418T103843
CREATED:20250404T070343Z
LAST-MODIFIED:20250404T070343Z
UID:3188-1748044800-1748217599@zespolyludowe.pl
SUMMARY:Jubileusz XX-lecia | ZPiT SGH | Warszawa
DESCRIPTION:Rok 2025 to dla nas wyjątkowy czas – świętujemy 20 lat ZPiT SGH! \n\n\nA jak najlepiej uczcić taką rocznicę? Oczywiście na scenie!  Już teraz rezerwujcie sobie 24 i 25 maja\, bo szykujemy coś\, czego nie możecie przegapić.\n\n\nWięcej szczegółów… wkrótce.  Stay tuned!
URL:https://zespolyludowe.pl/wydarzenie/jubileusz-xx-lecia-zpit-sgh-warszawa/
CATEGORIES:Koncert jubileuszowy
ATTACH;FMTTYPE=image/jpeg:https://zespolyludowe.pl/wp-content/uploads/20250524_20lat_SGH.jpg
END:VEVENT
END:VCALENDAR