BEGIN:VCALENDAR
VERSION:2.0
PRODID:-//Portal ZespolyLudowe.pl - ECPv6.15.20//NONSGML v1.0//EN
CALSCALE:GREGORIAN
METHOD:PUBLISH
X-ORIGINAL-URL:https://zespolyludowe.pl
X-WR-CALDESC:Wydarzenia dla Portal ZespolyLudowe.pl
REFRESH-INTERVAL;VALUE=DURATION:PT1H
X-Robots-Tag:noindex
X-PUBLISHED-TTL:PT1H
BEGIN:VTIMEZONE
TZID:Europe/Warsaw
BEGIN:DAYLIGHT
TZOFFSETFROM:+0100
TZOFFSETTO:+0200
TZNAME:CEST
DTSTART:20240331T010000
END:DAYLIGHT
BEGIN:STANDARD
TZOFFSETFROM:+0200
TZOFFSETTO:+0100
TZNAME:CET
DTSTART:20241027T010000
END:STANDARD
BEGIN:DAYLIGHT
TZOFFSETFROM:+0100
TZOFFSETTO:+0200
TZNAME:CEST
DTSTART:20250330T010000
END:DAYLIGHT
BEGIN:STANDARD
TZOFFSETFROM:+0200
TZOFFSETTO:+0100
TZNAME:CET
DTSTART:20251026T010000
END:STANDARD
BEGIN:DAYLIGHT
TZOFFSETFROM:+0100
TZOFFSETTO:+0200
TZNAME:CEST
DTSTART:20260329T010000
END:DAYLIGHT
BEGIN:STANDARD
TZOFFSETFROM:+0200
TZOFFSETTO:+0100
TZNAME:CET
DTSTART:20261025T010000
END:STANDARD
END:VTIMEZONE
BEGIN:VEVENT
DTSTART;TZID=Europe/Warsaw:20250322T180000
DTEND;TZID=Europe/Warsaw:20250322T193000
DTSTAMP:20260418T084527
CREATED:20250305T130858Z
LAST-MODIFIED:20250305T131302Z
UID:2997-1742666400-1742671800@zespolyludowe.pl
SUMMARY:Koncert Wiosenny | NOWA HUTA i ŚWIERCZKOWIACY | Kraków
DESCRIPTION:Serdecznie zapraszamy na znakomity koncert\, który odbędzie się już 22 marca 2025 w Nowohuckie Centrum Kultury !\n\n\nDwa Zespoły\, jedno \nZespół Pieśni i Tańca NOWA HUTA i ZPiT Świerczkowiacy\nzaprezentują najpiękniejsze suity   także we wspólnym wykonaniu \n\n\nPrzygotowania już trwają w Krakowie i Tarnowie!\n\n\nZapraszamy !!!
URL:https://zespolyludowe.pl/wydarzenie/koncert-wiosenny-nowa-huta-i-swierczkowiacy-krakow/
LOCATION:Nowohuckie Centrum Kultury\, al. Jana Pawła II 232\, Kraków\, 31-913\, Poland
CATEGORIES:Koncert
ATTACH;FMTTYPE=image/jpeg:https://zespolyludowe.pl/wp-content/uploads/20250322_NKC.jpg
END:VEVENT
END:VCALENDAR