BEGIN:VCALENDAR
VERSION:2.0
PRODID:-//Portal ZespolyLudowe.pl - ECPv6.15.20//NONSGML v1.0//EN
CALSCALE:GREGORIAN
METHOD:PUBLISH
X-ORIGINAL-URL:https://zespolyludowe.pl
X-WR-CALDESC:Wydarzenia dla Portal ZespolyLudowe.pl
REFRESH-INTERVAL;VALUE=DURATION:PT1H
X-Robots-Tag:noindex
X-PUBLISHED-TTL:PT1H
BEGIN:VTIMEZONE
TZID:Europe/Warsaw
BEGIN:DAYLIGHT
TZOFFSETFROM:+0100
TZOFFSETTO:+0200
TZNAME:CEST
DTSTART:20240331T010000
END:DAYLIGHT
BEGIN:STANDARD
TZOFFSETFROM:+0200
TZOFFSETTO:+0100
TZNAME:CET
DTSTART:20241027T010000
END:STANDARD
BEGIN:DAYLIGHT
TZOFFSETFROM:+0100
TZOFFSETTO:+0200
TZNAME:CEST
DTSTART:20250330T010000
END:DAYLIGHT
BEGIN:STANDARD
TZOFFSETFROM:+0200
TZOFFSETTO:+0100
TZNAME:CET
DTSTART:20251026T010000
END:STANDARD
BEGIN:DAYLIGHT
TZOFFSETFROM:+0100
TZOFFSETTO:+0200
TZNAME:CEST
DTSTART:20260329T010000
END:DAYLIGHT
BEGIN:STANDARD
TZOFFSETFROM:+0200
TZOFFSETTO:+0100
TZNAME:CET
DTSTART:20261025T010000
END:STANDARD
END:VTIMEZONE
BEGIN:VEVENT
DTSTART;TZID=Europe/Warsaw:20250224T080000
DTEND;TZID=Europe/Warsaw:20250224T170000
DTSTAMP:20260418T084540
CREATED:20250224T155932Z
LAST-MODIFIED:20250224T155932Z
UID:2876-1740384000-1740416400@zespolyludowe.pl
SUMMARY:Wiosenny koncert Zespołów Pieśni i Tańca | Kraków
DESCRIPTION:22 marca 2025 roku\, godz. 18 na scenie Nowohuckie Centrum Kultury odbędzie się Koncert Wiosenny Zespołów Pieśni i Tańca NOWA HUTA i ŚWIERCZKOWIACY. W koncercie zaprezentowane będą pieśni i tańce z różnych regionów kraju oraz polskie tańce narodowe. \nHistorię tych dwóch zespołów łączą dwie wybitne postaci świata folkloru: Anatola Kocyłowskiego – pedagoga\, choreografa i wieloletniego kierownika artystycznego Zespołu NOWA HUTA\, który także tworzył choreografie dla Zespołu ŚWIERCZKOWIACY oraz Andrzeja Radzika – pedagoga\, muzyka i wieloletniego kierownika muzycznego Zespołu ŚWIERCZKOWIACY\, który był twórcą wielu opracowań muzycznych dla Zespołu NOWA HUTA.
URL:https://zespolyludowe.pl/wydarzenie/wiosenny-koncert-zespolow-piesni-i-tanca-krakow/
LOCATION:Nowohuckie Centrum Kultury\, al. Jana Pawła II 232\, Kraków\, 31-913\, Poland
CATEGORIES:Koncert
ATTACH;FMTTYPE=image/jpeg:https://zespolyludowe.pl/wp-content/uploads/20250322_Wiosenny_NowaHuta.jpg
END:VEVENT
END:VCALENDAR